BEGIN:VCALENDAR
VERSION:2.0
PRODID:-//IEHCAN - ECPv6.15.20//NONSGML v1.0//EN
CALSCALE:GREGORIAN
METHOD:PUBLISH
X-WR-CALNAME:IEHCAN
X-ORIGINAL-URL:https://iehcan.com
X-WR-CALDESC:Eventos para IEHCAN
REFRESH-INTERVAL;VALUE=DURATION:PT1H
X-Robots-Tag:noindex
X-PUBLISHED-TTL:PT1H
BEGIN:VTIMEZONE
TZID:Atlantic/Canary
BEGIN:DAYLIGHT
TZOFFSETFROM:+0000
TZOFFSETTO:+0100
TZNAME:WEST
DTSTART:20250330T010000
END:DAYLIGHT
BEGIN:STANDARD
TZOFFSETFROM:+0100
TZOFFSETTO:+0000
TZNAME:WET
DTSTART:20251026T010000
END:STANDARD
BEGIN:DAYLIGHT
TZOFFSETFROM:+0000
TZOFFSETTO:+0100
TZNAME:WEST
DTSTART:20260329T010000
END:DAYLIGHT
BEGIN:STANDARD
TZOFFSETFROM:+0100
TZOFFSETTO:+0000
TZNAME:WET
DTSTART:20261025T010000
END:STANDARD
BEGIN:DAYLIGHT
TZOFFSETFROM:+0000
TZOFFSETTO:+0100
TZNAME:WEST
DTSTART:20270328T010000
END:DAYLIGHT
BEGIN:STANDARD
TZOFFSETFROM:+0100
TZOFFSETTO:+0000
TZNAME:WET
DTSTART:20271031T010000
END:STANDARD
END:VTIMEZONE
BEGIN:VEVENT
DTSTART;TZID=Atlantic/Canary:20260421T180000
DTEND;TZID=Atlantic/Canary:20260421T200000
DTSTAMP:20260421T111523
CREATED:20260330T100623Z
LAST-MODIFIED:20260330T100623Z
UID:13463-1776794400-1776801600@iehcan.com
SUMMARY:Encuentro y presentación de poesía
DESCRIPTION:Participan Laura M. Munuera (Contar hasta diez)\, María Gómez García (Mariposas desaladas) y Covadonga García Fiero (Víspera de la melancolía).
URL:https://iehcan.com/evento/encuentro-y-presentacion-de-poesia/
LOCATION:IEHCAN\, Calle Quintana18\, Puerto de la Cruz\, Santa Cruz de Tenerife\, 38400\, España
CATEGORIES:Literatura
ATTACH;FMTTYPE=image/jpeg:https://iehcan.com/wp-content/uploads/2026/03/27b14c93-f526-4f68-912c-9fe20d6c20f2.jpg
END:VEVENT
END:VCALENDAR