BEGIN:VCALENDAR
VERSION:2.0
PRODID:-//IEHCAN - ECPv6.15.20//NONSGML v1.0//EN
CALSCALE:GREGORIAN
METHOD:PUBLISH
X-ORIGINAL-URL:https://iehcan.com
X-WR-CALDESC:Eventos para IEHCAN
REFRESH-INTERVAL;VALUE=DURATION:PT1H
X-Robots-Tag:noindex
X-PUBLISHED-TTL:PT1H
BEGIN:VTIMEZONE
TZID:Atlantic/Canary
BEGIN:DAYLIGHT
TZOFFSETFROM:+0000
TZOFFSETTO:+0100
TZNAME:WEST
DTSTART:20220327T010000
END:DAYLIGHT
BEGIN:STANDARD
TZOFFSETFROM:+0100
TZOFFSETTO:+0000
TZNAME:WET
DTSTART:20221030T010000
END:STANDARD
BEGIN:DAYLIGHT
TZOFFSETFROM:+0000
TZOFFSETTO:+0100
TZNAME:WEST
DTSTART:20230326T010000
END:DAYLIGHT
BEGIN:STANDARD
TZOFFSETFROM:+0100
TZOFFSETTO:+0000
TZNAME:WET
DTSTART:20231029T010000
END:STANDARD
BEGIN:DAYLIGHT
TZOFFSETFROM:+0000
TZOFFSETTO:+0100
TZNAME:WEST
DTSTART:20240331T010000
END:DAYLIGHT
BEGIN:STANDARD
TZOFFSETFROM:+0100
TZOFFSETTO:+0000
TZNAME:WET
DTSTART:20241027T010000
END:STANDARD
BEGIN:DAYLIGHT
TZOFFSETFROM:+0000
TZOFFSETTO:+0100
TZNAME:WEST
DTSTART:20250330T010000
END:DAYLIGHT
BEGIN:STANDARD
TZOFFSETFROM:+0100
TZOFFSETTO:+0000
TZNAME:WET
DTSTART:20251026T010000
END:STANDARD
END:VTIMEZONE
BEGIN:VEVENT
DTSTART;TZID=Atlantic/Canary:20240405T190000
DTEND;TZID=Atlantic/Canary:20240405T200000
DTSTAMP:20260422T134137
CREATED:20240328T090009Z
LAST-MODIFIED:20240321T124809Z
UID:11352-1712343600-1712347200@iehcan.com
SUMMARY:Inauguración de la exposición "in púribus"
DESCRIPTION:Inauguración de la exposición «in púribus»\, óleos y dibujos de Abel Hernández Belza. Hasta el 26 de abril. \nHorario: de lunes a viernes de 10.00 a 13.00 y de 17.00 a 20.00 horas.
URL:https://iehcan.com/evento/inauguracion-de-la-exposicion-in-puribus/
LOCATION:IEHCAN\, Calle Quintana18\, Puerto de la Cruz\, Santa Cruz de Tenerife\, 38400\, España
CATEGORIES:Artes Plásticas
ATTACH;FMTTYPE=image/jpeg:https://iehcan.com/wp-content/uploads/2024/03/Obra-Abel-e1711025260912.jpg
END:VEVENT
BEGIN:VEVENT
DTSTART;TZID=Atlantic/Canary:20240404T183000
DTEND;TZID=Atlantic/Canary:20240404T193000
DTSTAMP:20260422T134137
CREATED:20240328T090010Z
LAST-MODIFIED:20240321T124831Z
UID:11349-1712255400-1712259000@iehcan.com
SUMMARY:Conferencia sobre «Prevención de caídas»
DESCRIPTION:Conferencia sobre «Prevención de caídas»\, por Antonio Javier González Pérez. \nOrganiza: Grupo de Montañeros Sombra del Teide.
URL:https://iehcan.com/evento/conferencia-sobre-prevencion-de-caidas/
LOCATION:IEHCAN\, Calle Quintana18\, Puerto de la Cruz\, Santa Cruz de Tenerife\, 38400\, España
CATEGORIES:Sociedad
ATTACH;FMTTYPE=image/jpeg:https://iehcan.com/wp-content/uploads/2024/03/IEHCAN-Sombras-del-Teide.-Prevencion-de-Caidas.jpg
END:VEVENT
BEGIN:VEVENT
DTSTART;TZID=Atlantic/Canary:20240326T190000
DTEND;TZID=Atlantic/Canary:20240326T210000
DTSTAMP:20260422T134137
CREATED:20240321T124258Z
LAST-MODIFIED:20240321T124258Z
UID:11347-1711479600-1711486800@iehcan.com
SUMMARY:Cinefórum Fundación Cajacanarias\, ciclo «El IEHC proyecta el último martes de cada mes»
DESCRIPTION:Exhibición de la película Yo Capitán\, de Matteo Garrone. Posterior debate sobre «El viaje de los «otros héroes»: la emigración desde África a Europa».
URL:https://iehcan.com/evento/cineforum-fundacion-cajacanarias-ciclo-el-iehc-proyecta-el-ultimo-martes-de-cada-mes-3/
LOCATION:IEHCAN\, Calle Quintana18\, Puerto de la Cruz\, Santa Cruz de Tenerife\, 38400\, España
CATEGORIES:Cine
ATTACH;FMTTYPE=image/jpeg:https://iehcan.com/wp-content/uploads/2024/02/Yo_capitaan-564041489-large.jpg
END:VEVENT
BEGIN:VEVENT
DTSTART;TZID=Atlantic/Canary:20240322T190000
DTEND;TZID=Atlantic/Canary:20240322T200000
DTSTAMP:20260422T134137
CREATED:20240321T092627Z
LAST-MODIFIED:20240321T130644Z
UID:11311-1711134000-1711137600@iehcan.com
SUMMARY:Presentación del libro "La Herencia"\, de Jessica León
DESCRIPTION:Presentación del libro La Herencia\, de Jessica León
URL:https://iehcan.com/evento/presentacion-del-libro-la-herencia-de-jessica-leon/
LOCATION:IEHCAN\, Calle Quintana18\, Puerto de la Cruz\, Santa Cruz de Tenerife\, 38400\, España
CATEGORIES:Literatura
ATTACH;FMTTYPE=image/jpeg:https://iehcan.com/wp-content/uploads/2024/02/3622f1fd-f950-4539-bf0b-f2052df8ae89.jpeg
END:VEVENT
BEGIN:VEVENT
DTSTART;TZID=Atlantic/Canary:20240316T110000
DTEND;TZID=Atlantic/Canary:20240316T120000
DTSTAMP:20260422T134137
CREATED:20240229T092615Z
LAST-MODIFIED:20240228T181822Z
UID:11308-1710586800-1710590400@iehcan.com
SUMMARY:Tercera sesión de las III Jornadas Hablamos de Arte
DESCRIPTION:III Jornadas Hablamos de Arte\, en el MACEW (Museo de Arte Contemporáneo Eduardo Westerdahl): \nSábado 16\, a las 11.00 horas: «Déjame que te cuente»\, performance llevada a cabo conjuntamente desde el área de didáctica del museo con la Escuela de Teatro Municipal de Puerto de la Cruz.
URL:https://iehcan.com/evento/tercera-sesion-de-las-iii-jornadas-hablamos-de-arte/
LOCATION:MACEW\, Calle Las Lonjas\, Puerto de la Cruz\, Santa Cruz de Tenerife\, 38400\, España
CATEGORIES:Artes Plásticas,Historia
ATTACH;FMTTYPE=image/jpeg:https://iehcan.com/wp-content/uploads/2024/02/92e4527b-7466-4efd-b6c9-1ce9025319dc.jpg
END:VEVENT
BEGIN:VEVENT
DTSTART;TZID=Atlantic/Canary:20240315T190000
DTEND;TZID=Atlantic/Canary:20240315T200000
DTSTAMP:20260422T134137
CREATED:20240229T092650Z
LAST-MODIFIED:20240228T181211Z
UID:11303-1710529200-1710532800@iehcan.com
SUMMARY:Segunda sesión de las 'III Jornadas Hablamos de Arte'
DESCRIPTION:III Jornadas Hablamos de Arte\, en el MACEW (Museo de Arte Contemporáneo Eduardo Westerdahl): \nConferencia «El museo no es una escuela»\, por Rufino Ferreras Marcos\, director del Área de Educación del Museo Nacional Thyssen-Bornemisza.
URL:https://iehcan.com/evento/segunda-sesion-de-las-iii-jornadas-hablamos-de-arte/
LOCATION:MACEW\, Calle Las Lonjas\, Puerto de la Cruz\, Santa Cruz de Tenerife\, 38400\, España
CATEGORIES:Artes Plásticas,Historia
ATTACH;FMTTYPE=image/jpeg:https://iehcan.com/wp-content/uploads/2024/02/9c581c76-a5cd-4b1d-af0c-d8054857e472.jpg
END:VEVENT
BEGIN:VEVENT
DTSTART;TZID=Atlantic/Canary:20240314T190000
DTEND;TZID=Atlantic/Canary:20240314T190000
DTSTAMP:20260422T134137
CREATED:20240229T092605Z
LAST-MODIFIED:20240228T180240Z
UID:11299-1710442800-1710442800@iehcan.com
SUMMARY:Primera sesión de las 'III Jornadas Hablamos de Arte'
DESCRIPTION:III Jornadas Hablamos de Arte\, en el MACEW (Museo de Arte Contemporáneo Eduardo Westerdahl)\, en el MACEW (Museo de Arte Contemporáneo Eduardo Westerdahl): \nJueves 14\, a las 19.00 horas: Conferencia «El patrimonio artístico femenino: ejemplos de prácticas para su difusión desde la perspectiva de género»\, por  Yolanda Peralta Sierra\, profesora del Departamento de Historia del Arte y Filosofía  de la Universidad de La Laguna.
URL:https://iehcan.com/evento/primera-sesion-de-las-iii-jornadas-hablamos-de-arte/
LOCATION:MACEW\, Calle Las Lonjas\, Puerto de la Cruz\, Santa Cruz de Tenerife\, 38400\, España
CATEGORIES:Artes Plásticas,Historia
ATTACH;FMTTYPE=image/jpeg:https://iehcan.com/wp-content/uploads/2024/02/81a5b548-90d8-4a7b-8724-ec11749062af.jpg
END:VEVENT
BEGIN:VEVENT
DTSTART;TZID=Atlantic/Canary:20240312T190000
DTEND;TZID=Atlantic/Canary:20240312T200000
DTSTAMP:20260422T134137
CREATED:20240229T092625Z
LAST-MODIFIED:20240228T175043Z
UID:11296-1710270000-1710273600@iehcan.com
SUMMARY:Ciclo de cine canario. Sesión dedicada a «El Puerto de la Cruz visto desde el cine. Años 1970 a 1990 »
DESCRIPTION:En el marco del ciclo de cine canario\, sesión dedicada a «El Puerto de la Cruz visto desde el cine. Años 1970 a 1990 » (2ª parte). Se entregará un cuadernillo de la Sección de Cine del IEHC\, Colectivo Cata y La Mirada Inquieta.
URL:https://iehcan.com/evento/ciclo-de-cine-canario-sesion-dedicada-a-el-puerto-de-la-cruz-visto-desde-el-cine-anos-1970-a-1990/
LOCATION:IEHCAN\, Calle Quintana18\, Puerto de la Cruz\, Santa Cruz de Tenerife\, 38400\, España
CATEGORIES:Cine
ATTACH;FMTTYPE=image/png:https://iehcan.com/wp-content/uploads/2024/02/thumbs_cleanup.png
END:VEVENT
BEGIN:VEVENT
DTSTART;TZID=Atlantic/Canary:20240307T080000
DTEND;TZID=Atlantic/Canary:20240307T123000
DTSTAMP:20260422T134137
CREATED:20240229T092602Z
LAST-MODIFIED:20240228T163938Z
UID:11293-1709798400-1709814600@iehcan.com
SUMMARY:Apertura de la exposición «Mujeres relevantes de la historia de la ciudad»
DESCRIPTION:En el marco del Día Internacional de las Mujeres\, apertura de la exposición «Mujeres relevantes de la historia de la ciudad». Organizada por el Centro Municipal de las Mujeres\, Ayto. de Puerto de la Cruz.
URL:https://iehcan.com/evento/apertura-de-la-exposicion-mujeres-relevantes-de-la-historia-de-la-ciudad/
LOCATION:IEHCAN\, Calle Quintana18\, Puerto de la Cruz\, Santa Cruz de Tenerife\, 38400\, España
CATEGORIES:Sociedad
ATTACH;FMTTYPE=image/jpeg:https://iehcan.com/wp-content/uploads/2024/02/CARTEL-EXPO-IEHC-1.jpg
END:VEVENT
BEGIN:VEVENT
DTSTART;TZID=Atlantic/Canary:20240305T190000
DTEND;TZID=Atlantic/Canary:20240305T203000
DTSTAMP:20260422T134137
CREATED:20240229T092633Z
LAST-MODIFIED:20240228T163140Z
UID:11285-1709665200-1709670600@iehcan.com
SUMMARY:Presentación del monólogo «Fresa y chocolate\, 30 años después»\, interpretado por el actor Joel Angelino y proyección del cortometraje "WC Story"
DESCRIPTION:Presentación del monólogo «Fresa y chocolate\, 30 años después»\, interpretado por el actor Joel Angelino. A continuación proyección del cortometraje WC Story\, dirigido por Santiago Ríos y protagonizado por Joel Angelino y Gretel Cazón. \n 
URL:https://iehcan.com/evento/presentacion-del-monologo-fresa-y-chocolate-30-anos-despues-interpretado-por-el-actor-joel-angelino-y-proyeccion-del-cortometraje-wc-story/
LOCATION:IEHCAN\, Calle Quintana18\, Puerto de la Cruz\, Santa Cruz de Tenerife\, 38400\, España
CATEGORIES:Cine,Música
ATTACH;FMTTYPE=image/jpeg:https://iehcan.com/wp-content/uploads/2024/02/9fc0d621-524d-4618-86b4-7f9c4ed9090d.jpg
END:VEVENT
BEGIN:VEVENT
DTSTART;TZID=Atlantic/Canary:20240301T190000
DTEND;TZID=Atlantic/Canary:20240301T200000
DTSTAMP:20260422T134137
CREATED:20240130T095629Z
LAST-MODIFIED:20240130T095629Z
UID:11266-1709319600-1709323200@iehcan.com
SUMMARY:Cuarta conferencia del Ciclo  «Pensamiento y Modernidad en el tránsito de la Revolución Cosmológica».
DESCRIPTION:«La recepción de Copérnico en España: De Jerónimo de Chávez a Jerónimo Muñoz y sus discípulos»\, por Miguel Ángel Granada\, catedrático de Historia de la Filosofía en la Universitat de Barcelona\, actualmente profesor emérito.
URL:https://iehcan.com/evento/cuarta-conferencia-del-ciclo-pensamiento-y-modernidad-en-el-transito-de-la-revolucion-cosmologica/
LOCATION:IEHCAN\, Calle Quintana18\, Puerto de la Cruz\, Santa Cruz de Tenerife\, 38400\, España
CATEGORIES:Filosofía
ATTACH;FMTTYPE=image/jpeg:https://iehcan.com/wp-content/uploads/2024/01/Cartel-ciclo-Pensamiento-scaled.jpg
END:VEVENT
BEGIN:VEVENT
DTSTART;TZID=Atlantic/Canary:20240228T190000
DTEND;TZID=Atlantic/Canary:20240228T200000
DTSTAMP:20260422T134137
CREATED:20240130T095533Z
LAST-MODIFIED:20240130T095533Z
UID:11264-1709146800-1709150400@iehcan.com
SUMMARY:Tercera conferencia del Ciclo  «Pensamiento y Modernidad en el tránsito de la Revolución Cosmológica».
DESCRIPTION:«Michel de Montaigne (1533-1592): Autorretaro de un pensador a caballo»\, por Sergio Toledo Prats (FUNDORO).
URL:https://iehcan.com/evento/tercera-conferencia-del-ciclo-pensamiento-y-modernidad-en-el-transito-de-la-revolucion-cosmologica/
LOCATION:IEHCAN\, Calle Quintana18\, Puerto de la Cruz\, Santa Cruz de Tenerife\, 38400\, España
CATEGORIES:Filosofía
ATTACH;FMTTYPE=image/jpeg:https://iehcan.com/wp-content/uploads/2024/01/Cartel-ciclo-Pensamiento-scaled.jpg
END:VEVENT
BEGIN:VEVENT
DTSTART;TZID=Atlantic/Canary:20240227T190000
DTEND;TZID=Atlantic/Canary:20240227T210000
DTSTAMP:20260422T134137
CREATED:20240130T095939Z
LAST-MODIFIED:20240130T095939Z
UID:11268-1709060400-1709067600@iehcan.com
SUMMARY:Cinefórum Fundación Cajacanarias. Ciclo «El IEHC proyecta el último martes de cada mes»: "Godland"
DESCRIPTION:En el marco del Cinefórum Fundación Cajacanarias y del ciclo «El IEHC proyecta el último martes de cada mes»\, exhibición de la película Godland\, de Hlynur Pálmason.  Posterior debate sobre el paso del tiempo y la pérdida de capacidad social.  Modera Abel Hernández Belza.
URL:https://iehcan.com/evento/cineforum-fundacion-cajacanarias-ciclo-el-iehc-proyecta-el-ultimo-martes-de-cada-mes-godland/
LOCATION:Santa Cruz de Tenerife
CATEGORIES:Cine
ATTACH;FMTTYPE=image/jpeg:https://iehcan.com/wp-content/uploads/2024/01/Godland-972057105-large.jpg
END:VEVENT
BEGIN:VEVENT
DTSTART;TZID=Atlantic/Canary:20240223T190000
DTEND;TZID=Atlantic/Canary:20240223T200000
DTSTAMP:20260422T134137
CREATED:20240130T095339Z
LAST-MODIFIED:20240130T095339Z
UID:11262-1708714800-1708718400@iehcan.com
SUMMARY:Segunda conferencia del Ciclo  «Pensamiento y Modernidad en el tránsito de la Revolución Cosmológica».
DESCRIPTION:«El pensamiento de Nicolás Maquiavelo (1469-1527)»\, por Rosario Miranda Juan (FUNDORO).
URL:https://iehcan.com/evento/segunda-conferencia-del-ciclo-pensamiento-y-modernidad-en-el-transito-de-la-revolucion-cosmologica/
LOCATION:IEHCAN\, Calle Quintana18\, Puerto de la Cruz\, Santa Cruz de Tenerife\, 38400\, España
CATEGORIES:Filosofía
ATTACH;FMTTYPE=image/jpeg:https://iehcan.com/wp-content/uploads/2024/01/Cartel-ciclo-Pensamiento-scaled.jpg
END:VEVENT
BEGIN:VEVENT
DTSTART;TZID=Atlantic/Canary:20240221T190000
DTEND;TZID=Atlantic/Canary:20240221T200000
DTSTAMP:20260422T134137
CREATED:20240130T095110Z
LAST-MODIFIED:20240130T095110Z
UID:11259-1708542000-1708545600@iehcan.com
SUMMARY:Primera conferencia del ciclo «Pensamiento de Modernidad en el tránsito de la Revolución Cosmológica».
DESCRIPTION:«Platonismo matematizante contra aristotelismo en el s. XVI»\, por José Montesinos Sirera\, Fundación Canaria Orotava de Historia de la Ciencia (FUNDORO).
URL:https://iehcan.com/evento/primera-conferencia-del-ciclo-pensamiento-de-modernidad-en-el-transito-de-la-revolucion-cosmologica/
LOCATION:IEHCAN\, Calle Quintana18\, Puerto de la Cruz\, Santa Cruz de Tenerife\, 38400\, España
CATEGORIES:Filosofía
ATTACH;FMTTYPE=image/jpeg:https://iehcan.com/wp-content/uploads/2024/01/Cartel-ciclo-Pensamiento-scaled.jpg
END:VEVENT
BEGIN:VEVENT
DTSTART;TZID=Atlantic/Canary:20240215T190000
DTEND;TZID=Atlantic/Canary:20240215T200000
DTSTAMP:20260422T134137
CREATED:20240130T094519Z
LAST-MODIFIED:20240130T094519Z
UID:11256-1708023600-1708027200@iehcan.com
SUMMARY:Ciclo de cine canario. Sesión dedicada a «El Puerto de la Cruz visto desde el cine. Años de 1930 a 1960» (1ª parte).
DESCRIPTION:En el marco del ciclo de cine canario\, sesión dedicada a «El Puerto de la Cruz visto desde el cine. Años de 1930 a 1960» (1ª parte). Se entregará cuadernillo de la Sección de Cine del IEHC\, Colectivo Cata y La Mirada Inquieta.
URL:https://iehcan.com/evento/ciclo-de-cine-canario-sesion-dedicada-a-el-puerto-de-la-cruz-visto-desde-el-cine-anos-de-1930-a-1960-1a-parte/
LOCATION:IEHCAN\, Calle Quintana18\, Puerto de la Cruz\, Santa Cruz de Tenerife\, 38400\, España
CATEGORIES:Cine
ATTACH;FMTTYPE=image/png:https://iehcan.com/wp-content/uploads/2024/01/thumbs_cleanup.png
END:VEVENT
BEGIN:VEVENT
DTSTART;TZID=Atlantic/Canary:20240209T190000
DTEND;TZID=Atlantic/Canary:20240209T200000
DTSTAMP:20260422T134137
CREATED:20240129T134435Z
LAST-MODIFIED:20240129T134621Z
UID:11251-1707505200-1707508800@iehcan.com
SUMMARY:Exposición «Microcosmos»\, de Brenda Cap.
DESCRIPTION:Inauguración de la exposición «Microcosmos»\, de Brenda Cap. \nHasta el 28 de febrero en sala. Horario: de lunes a viernes de 10.00  a 13.00 y de 17.00 a 20.00 horas (lunes tarde cerrado). \n 
URL:https://iehcan.com/evento/exposicion-microcosmos-de-brenda-cap/
LOCATION:IEHCAN\, Calle Quintana18\, Puerto de la Cruz\, Santa Cruz de Tenerife\, 38400\, España
CATEGORIES:Artes Plásticas
ATTACH;FMTTYPE=image/png:https://iehcan.com/wp-content/uploads/2024/01/Anuncio-expo.-Brenda-Cap.png
END:VEVENT
BEGIN:VEVENT
DTSTART;TZID=Atlantic/Canary:20240130T190000
DTEND;TZID=Atlantic/Canary:20240130T210000
DTSTAMP:20260422T134137
CREATED:20240101T090137Z
LAST-MODIFIED:20231229T132222Z
UID:11228-1706641200-1706648400@iehcan.com
SUMMARY:Cinefórum Fundación Cajacanarias. Ciclo «El IEHC proyecta el último martes de cada mes»
DESCRIPTION:En el marco del Cinefórum Fundación Cajacanarias y del ciclo «El IEHC proyecta el último martes de cada mes»\, exhibición de la película  El buen patrón\, de Fernando León de Aranoa. Posterior debate sobre la ironía\, el cinismo y la «malaleche» en el cine español. Modera Abel Hernández Belza.
URL:https://iehcan.com/evento/cineforum-fundacion-cajacanarias-ciclo-el-iehc-proyecta-el-ultimo-martes-de-cada-mes/
LOCATION:IEHCAN\, Calle Quintana18\, Puerto de la Cruz\, Santa Cruz de Tenerife\, 38400\, España
CATEGORIES:Cine
ATTACH;FMTTYPE=image/jpeg:https://iehcan.com/wp-content/uploads/2023/12/images-1.jpg
END:VEVENT
BEGIN:VEVENT
DTSTART;TZID=Atlantic/Canary:20240123T183000
DTEND;TZID=Atlantic/Canary:20240123T193000
DTSTAMP:20260422T134137
CREATED:20240101T090133Z
LAST-MODIFIED:20231229T131754Z
UID:11223-1706034600-1706038200@iehcan.com
SUMMARY:Segunda conferencia del ciclo «La Historia revisada»
DESCRIPTION:En el marco del ciclo «La Historia revisada»\, conferencia «Expulsados de la camaradería: homosexualidad y masculinidad durante la Guerra Civil en Tenerife»\, por Abel Díaz Díaz\, licenciado en Historia por la ULL.
URL:https://iehcan.com/evento/segunda-conferencia-del-ciclo-la-historia-revisada/
LOCATION:IEHCAN\, Calle Quintana18\, Puerto de la Cruz\, Santa Cruz de Tenerife\, 38400\, España
CATEGORIES:Historia
ATTACH;FMTTYPE=image/jpeg:https://iehcan.com/wp-content/uploads/2023/12/Historia-revisada-recorte-1080x675-1.jpg
END:VEVENT
BEGIN:VEVENT
DTSTART;TZID=Atlantic/Canary:20240122T183000
DTEND;TZID=Atlantic/Canary:20240122T193000
DTSTAMP:20260422T134137
CREATED:20240101T090139Z
LAST-MODIFIED:20231229T131617Z
UID:11220-1705948200-1705951800@iehcan.com
SUMMARY:Primera conferencia del ciclo «La Historia revisada»
DESCRIPTION:En el marco del ciclo «La Historia revisada»\, conferencia «Diversidades aisladas y vidas conectadas: explorando la variabilidad de roles sociales en las poblaciones aborígenes canarias de las Islas Occidentales (ss. III-XVII)»\, por Jared Carballo Pérez\,  doctor en Territorio y Sociedad con especialización en Arqueología por la ULL.
URL:https://iehcan.com/evento/primera-conferencia-del-ciclo-la-historia-revisada/
LOCATION:IEHCAN\, Calle Quintana18\, Puerto de la Cruz\, Santa Cruz de Tenerife\, 38400\, España
CATEGORIES:Historia
ATTACH;FMTTYPE=image/jpeg:https://iehcan.com/wp-content/uploads/2023/12/Historia-revisada-recorte-1080x675-1.jpg
END:VEVENT
BEGIN:VEVENT
DTSTART;TZID=Atlantic/Canary:20240118T190000
DTEND;TZID=Atlantic/Canary:20240118T200000
DTSTAMP:20260422T134137
CREATED:20240101T090103Z
LAST-MODIFIED:20231229T131113Z
UID:11217-1705604400-1705608000@iehcan.com
SUMMARY:Presentación del libro "Restos de un rosario. Relatos de misterio y terror"
DESCRIPTION:Presentación del libro Restos de un rosario. Relatos de misterio y terror\, de Graciliana Montelongo Amador. Presenta Salvador García Llanos.
URL:https://iehcan.com/evento/presentacion-del-libro-restos-de-un-rosario-relatos-de-misterio-y-terror/
LOCATION:IEHCAN\, Calle Quintana18\, Puerto de la Cruz\, Santa Cruz de Tenerife\, 38400\, España
CATEGORIES:Literatura
ATTACH;FMTTYPE=image/jpeg:https://iehcan.com/wp-content/uploads/2024/01/portada-libro-Graciliana.jpg
END:VEVENT
BEGIN:VEVENT
DTSTART;TZID=Atlantic/Canary:20240116T190000
DTEND;TZID=Atlantic/Canary:20240116T200000
DTSTAMP:20260422T134137
CREATED:20240101T090705Z
LAST-MODIFIED:20231229T130853Z
UID:11214-1705431600-1705435200@iehcan.com
SUMMARY:Ciclo de cine canario\, sesión dedicada al cine amateur en Tenerife anterior a los años 60
DESCRIPTION:En el marco del ciclo de cine canario\, sesión dedicada al cine amateur en Tenerife anterior a los años 60. Proyección de películas y posterior debate. Reparto del cuadernillo editado por la sección de cine del IEHC.
URL:https://iehcan.com/evento/ciclo-de-cine-canario-sesion-dedicada-al-cine-amateur-en-tenerife-anterior-a-los-anos-60/
LOCATION:IEHCAN\, Calle Quintana18\, Puerto de la Cruz\, Santa Cruz de Tenerife\, 38400\, España
CATEGORIES:Cine
ATTACH;FMTTYPE=image/jpeg:https://iehcan.com/wp-content/uploads/2023/12/cine-amateur.jpg
END:VEVENT
BEGIN:VEVENT
DTSTART;TZID=Atlantic/Canary:20240110T190000
DTEND;TZID=Atlantic/Canary:20240110T193000
DTSTAMP:20260422T134137
CREATED:20240101T090102Z
LAST-MODIFIED:20231229T130655Z
UID:11211-1704913200-1704915000@iehcan.com
SUMMARY:Exposición de paneles didácticos «Sin tiempo no hay nada. Estampas sobre evolución»
DESCRIPTION:Inauguración de la exposición de paneles didácticos «Sin tiempo no hay nada. Estampas sobre evolución»\, de la Fundación Orotava de Historia de la Ciencia (FUNDORO). Hasta el 30 de enero.
URL:https://iehcan.com/evento/exposicion-de-paneles-didacticos-sin-tiempo-no-hay-nada-estampas-sobre-evolucion/
LOCATION:IEHCAN\, Calle Quintana18\, Puerto de la Cruz\, Santa Cruz de Tenerife\, 38400\, España
CATEGORIES:Artes Plásticas
ATTACH;FMTTYPE=image/jpeg:https://iehcan.com/wp-content/uploads/2023/12/1-PRESENTACION.jpg
END:VEVENT
BEGIN:VEVENT
DTSTART;TZID=Atlantic/Canary:20231229T190000
DTEND;TZID=Atlantic/Canary:20231229T200000
DTSTAMP:20260422T134137
CREATED:20231204T184440Z
LAST-MODIFIED:20231204T184440Z
UID:11201-1703876400-1703880000@iehcan.com
SUMMARY:Presentación del libro «Diario de un viajero»
DESCRIPTION:Presentación del libro Diario de un viajero\, de Isidoro Sánchez García\, por Ángel García González\, aparejador.
URL:https://iehcan.com/evento/presentacion-del-libro-diario-de-un-viajero/
LOCATION:Santa Cruz de Tenerife
CATEGORIES:Literatura
ATTACH;FMTTYPE=image/jpeg:https://iehcan.com/wp-content/uploads/2023/12/portada-libro-Isidoro-scaled.jpg
END:VEVENT
BEGIN:VEVENT
DTSTART;TZID=Atlantic/Canary:20231226T190000
DTEND;TZID=Atlantic/Canary:20231226T213000
DTSTAMP:20260422T134137
CREATED:20231204T185059Z
LAST-MODIFIED:20231204T185052Z
UID:11198-1703617200-1703626200@iehcan.com
SUMMARY:Proyección y coloquio «Cinefórum Fundación Cajacanarias»
DESCRIPTION:En el marco del Cinefórum Fundación Cajacanarias y del ciclo «El IEHC proyecta el último martes de cada mes»\, exhibición de la película  No mires arriba\, de Adam McKay. Posterior debate sobre qué pasa cuando perdemos el control sobre nuestras acciones. Modera Abel Hernández Belza. \n 
URL:https://iehcan.com/evento/proyeccion-y-coloquio-cineforum-fundacion-cajacanarias/
LOCATION:IEHCAN\, Calle Quintana18\, Puerto de la Cruz\, Santa Cruz de Tenerife\, 38400\, España
CATEGORIES:Cine
ATTACH;FMTTYPE=image/jpeg:https://iehcan.com/wp-content/uploads/2023/12/images.jpg
END:VEVENT
BEGIN:VEVENT
DTSTART;TZID=Atlantic/Canary:20231220T190000
DTEND;TZID=Atlantic/Canary:20231220T203000
DTSTAMP:20260422T134137
CREATED:20231204T184059Z
LAST-MODIFIED:20231204T184059Z
UID:11195-1703098800-1703104200@iehcan.com
SUMMARY:Tercera sesión de las Jornadas de cine amateur en Canarias.
DESCRIPTION:«Cine amateur-cine profesional en Canarias»\, con Vasni Ramos.
URL:https://iehcan.com/evento/tercera-sesion-de-las-jornadas-de-cine-amateur-en-canarias/
LOCATION:IEHCAN\, Calle Quintana18\, Puerto de la Cruz\, Santa Cruz de Tenerife\, 38400\, España
CATEGORIES:Cine
ATTACH;FMTTYPE=image/png:https://iehcan.com/wp-content/uploads/2023/12/JORNADAS-DE-CINE-AMATEUR-1.png
END:VEVENT
BEGIN:VEVENT
DTSTART;TZID=Atlantic/Canary:20231219T190000
DTEND;TZID=Atlantic/Canary:20231219T203000
DTSTAMP:20260422T134137
CREATED:20231204T183944Z
LAST-MODIFIED:20231204T183944Z
UID:11193-1703012400-1703017800@iehcan.com
SUMMARY:Segunda sesión de las Jornadas de cine amateur en Canarias.
DESCRIPTION:«El cine amateur en Gran Canaria»\, con Dani León Lacave.
URL:https://iehcan.com/evento/segunda-sesion-de-las-jornadas-de-cine-amateur-en-canarias/
LOCATION:IEHCAN\, Calle Quintana18\, Puerto de la Cruz\, Santa Cruz de Tenerife\, 38400\, España
CATEGORIES:Cine
END:VEVENT
BEGIN:VEVENT
DTSTART;TZID=Atlantic/Canary:20231218T190000
DTEND;TZID=Atlantic/Canary:20231218T203000
DTSTAMP:20260422T134137
CREATED:20231204T183527Z
LAST-MODIFIED:20231204T183840Z
UID:11188-1702926000-1702931400@iehcan.com
SUMMARY:Primera sesión de las Jornadas de cine amateur en Canarias.
DESCRIPTION:«El cine amateur en Tenerife»\, con Josep Vilageliú.
URL:https://iehcan.com/evento/primera-sesion-de-las-jornadas-de-cine-amateur-en-canarias/
LOCATION:IEHCAN\, Calle Quintana18\, Puerto de la Cruz\, Santa Cruz de Tenerife\, 38400\, España
CATEGORIES:Cine
ATTACH;FMTTYPE=image/png:https://iehcan.com/wp-content/uploads/2023/12/JORNADAS-DE-CINE-AMATEUR.png
END:VEVENT
BEGIN:VEVENT
DTSTART;TZID=Atlantic/Canary:20231215T190000
DTEND;TZID=Atlantic/Canary:20231215T200000
DTSTAMP:20260422T134137
CREATED:20231204T183336Z
LAST-MODIFIED:20231204T183336Z
UID:11184-1702666800-1702670400@iehcan.com
SUMMARY:Exposición «Un viaje naif por las tradiciones canarias»\, de Ángeles Violán.
DESCRIPTION:Inauguración de la exposición «Un viaje naif por las tradiciones canarias»\, de Ángeles Violán. Incluye la presentación de su libro del mismo título. Con Celestino Hernández Sánchez e Isidoro Sánchez García. \n 
URL:https://iehcan.com/evento/exposicion-un-viaje-naif-por-las-tradiciones-canarias-de-angeles-violan/
LOCATION:IEHCAN\, Calle Quintana18\, Puerto de la Cruz\, Santa Cruz de Tenerife\, 38400\, España
CATEGORIES:Artes Plásticas
ATTACH;FMTTYPE=image/png:https://iehcan.com/wp-content/uploads/2023/12/un-viaje-naif-por-las-tradiciones-canarias.png
END:VEVENT
BEGIN:VEVENT
DTSTART;TZID=Atlantic/Canary:20231214T190000
DTEND;TZID=Atlantic/Canary:20231214T200000
DTSTAMP:20260422T134137
CREATED:20231204T182953Z
LAST-MODIFIED:20231204T182953Z
UID:11181-1702580400-1702584000@iehcan.com
SUMMARY:Presentación del libro «Brava está la punta»
DESCRIPTION:Presentación del libro Brava está la punta\, de  Pablo Estévez Hernández. El autor estará acompañado por Ramón Hernández Armas\, profesor del Área de Antropología Social y Cultural de la ULL\, y José Miguel Perera\, de Ediciones Tamaimos.
URL:https://iehcan.com/evento/presentacion-del-libro-brava-esta-la-punta/
LOCATION:IEHCAN\, Calle Quintana18\, Puerto de la Cruz\, Santa Cruz de Tenerife\, 38400\, España
CATEGORIES:Literatura
ATTACH;FMTTYPE=image/jpeg:https://iehcan.com/wp-content/uploads/2023/12/Brava-esta-la-punta.jpg
END:VEVENT
END:VCALENDAR