BEGIN:VCALENDAR
VERSION:2.0
PRODID:-//IEHCAN - ECPv6.15.20//NONSGML v1.0//EN
CALSCALE:GREGORIAN
METHOD:PUBLISH
X-WR-CALNAME:IEHCAN
X-ORIGINAL-URL:https://iehcan.com
X-WR-CALDESC:Eventos para IEHCAN
REFRESH-INTERVAL;VALUE=DURATION:PT1H
X-Robots-Tag:noindex
X-PUBLISHED-TTL:PT1H
BEGIN:VTIMEZONE
TZID:Atlantic/Canary
BEGIN:DAYLIGHT
TZOFFSETFROM:+0000
TZOFFSETTO:+0100
TZNAME:WEST
DTSTART:20220327T010000
END:DAYLIGHT
BEGIN:STANDARD
TZOFFSETFROM:+0100
TZOFFSETTO:+0000
TZNAME:WET
DTSTART:20221030T010000
END:STANDARD
BEGIN:DAYLIGHT
TZOFFSETFROM:+0000
TZOFFSETTO:+0100
TZNAME:WEST
DTSTART:20230326T010000
END:DAYLIGHT
BEGIN:STANDARD
TZOFFSETFROM:+0100
TZOFFSETTO:+0000
TZNAME:WET
DTSTART:20231029T010000
END:STANDARD
BEGIN:DAYLIGHT
TZOFFSETFROM:+0000
TZOFFSETTO:+0100
TZNAME:WEST
DTSTART:20240331T010000
END:DAYLIGHT
BEGIN:STANDARD
TZOFFSETFROM:+0100
TZOFFSETTO:+0000
TZNAME:WET
DTSTART:20241027T010000
END:STANDARD
END:VTIMEZONE
BEGIN:VEVENT
DTSTART;TZID=Atlantic/Canary:20231123T180000
DTEND;TZID=Atlantic/Canary:20231123T190000
DTSTAMP:20260422T183933
CREATED:20231102T113159Z
LAST-MODIFIED:20231115T135336Z
UID:11104-1700762400-1700766000@iehcan.com
SUMMARY:Conferencia: «El desaparecido bosque de cedros del Teide»
DESCRIPTION:Conferencia: «El desaparecido bosque de cedros del Teide»\nDr. Manuel Nogales\nInvestigador Científico del CSIC. Grupo de Investigación Ecología y Evolución en Islas\, Instituto de Productos Naturales y Agrobiología. La Laguna. \nConferencias de la XIX Semana Científica Telesforo Bravo\, «Islas. Espléndidos laboratorios naturales». En colaboración con la Fundación Telesforo Bravo-Juan Coello.
URL:https://iehcan.com/evento/conferencia-el-desaparecido-bosque-de-cedros-del-teide/
LOCATION:IEHCAN\, Calle Quintana18\, Puerto de la Cruz\, Santa Cruz de Tenerife\, 38400\, España
CATEGORIES:Ciencia
END:VEVENT
BEGIN:VEVENT
DTSTART;TZID=Atlantic/Canary:20231122T180000
DTEND;TZID=Atlantic/Canary:20231122T190000
DTSTAMP:20260422T183933
CREATED:20231102T113033Z
LAST-MODIFIED:20231115T135450Z
UID:11102-1700676000-1700679600@iehcan.com
SUMMARY:Conferencia: «Biogeografía funcional de plantas en islas»
DESCRIPTION:Conferencia: «Biogeografía funcional de plantas en islas»\nDr. Rudiger Otto\nProfesor de Ecología. Grupo de Investigación Ecología y Biogeografía Insular\, Universidad de La Laguna. \nConferencias de la XIX Semana Científica Telesforo Bravo\, «Islas. Espléndidos laboratorios naturales». En colaboración con la Fundación Telesforo Bravo-Juan Coello.
URL:https://iehcan.com/evento/conferencia-biogeografia-funcional-de-plantas-en-islas/
LOCATION:IEHCAN\, Calle Quintana18\, Puerto de la Cruz\, Santa Cruz de Tenerife\, 38400\, España
CATEGORIES:Ciencia
ATTACH;FMTTYPE=image/jpeg:https://iehcan.com/wp-content/uploads/2023/11/Programa-Semana-Cientifica-TB2023.jpg
END:VEVENT
BEGIN:VEVENT
DTSTART;TZID=Atlantic/Canary:20231121T180000
DTEND;TZID=Atlantic/Canary:20231121T190000
DTSTAMP:20260422T183933
CREATED:20231102T112200Z
LAST-MODIFIED:20231115T135219Z
UID:11094-1700589600-1700593200@iehcan.com
SUMMARY:Conferencia:  «Un viaje a los ecosistemas canarios del pasado»
DESCRIPTION:Conferencia:\n«Un viaje a los ecosistemas canarios del pasado»\nDra. Lea de Nascimento\nProfesora de Ecología. Grupo de Investigación Ecología y Biogeografía Insular\, Universidad de La Laguna.\n \nConferencias de la XIX Semana Científica Telesforo Bravo\, «Islas. Espléndidos laboratorios naturales». En colaboración con la Fundación Telesforo Bravo-Juan Coello.
URL:https://iehcan.com/evento/conferencia-un-viaje-a-los-ecosistemas-canarios-del-pasado/
LOCATION:IEHCAN\, Calle Quintana18\, Puerto de la Cruz\, Santa Cruz de Tenerife\, 38400\, España
CATEGORIES:Ciencia
ATTACH;FMTTYPE=image/jpeg:https://iehcan.com/wp-content/uploads/2023/11/Programa-Semana-Cientifica-TB2023.jpg
END:VEVENT
BEGIN:VEVENT
DTSTART;TZID=Atlantic/Canary:20231120T183000
DTEND;TZID=Atlantic/Canary:20231120T193000
DTSTAMP:20260422T183933
CREATED:20231102T111523Z
LAST-MODIFIED:20231115T135122Z
UID:11092-1700505000-1700508600@iehcan.com
SUMMARY:Conferencia: «¿Por qué estudiar las islas? Una introducción al mundo insular»
DESCRIPTION:«¿Por qué estudiar las islas? Una introducción al mundo insular»\nDr. José María Fernández-Palacios\nCatedrático de Ecología. Jefe Grupo de Investigación Ecología y Biogeografía Insular\, Universidad de La Laguna. \nConferencias de la XIX Semana Científica Telesforo Bravo\, «Islas. Espléndidos laboratorios naturales». En colaboración con la Fundación Telesforo Bravo-Juan Coello.
URL:https://iehcan.com/evento/conferencia-por-que-estudiar-las-islas-una-introduccion-al-mundo-insular/
LOCATION:Santa Cruz de Tenerife
CATEGORIES:Ciencia
ATTACH;FMTTYPE=image/jpeg:https://iehcan.com/wp-content/uploads/2023/11/Programa-Semana-Cientifica-TB2023.jpg
END:VEVENT
BEGIN:VEVENT
DTSTART;TZID=Atlantic/Canary:20231120T180000
DTEND;TZID=Atlantic/Canary:20231120T183000
DTSTAMP:20260422T183933
CREATED:20231102T111316Z
LAST-MODIFIED:20231115T135302Z
UID:11090-1700503200-1700505000@iehcan.com
SUMMARY:Presentación de la XIX Semana Científica Telesforo Bravo
DESCRIPTION:Presentación de la XIX Semana Científica Telesforo Bravo y del libro «Tajogaite. Enseñanzas de una erupción volcánica (La Palma\, otoño 2021)» (XVIII Semana Científica Telesforo Bravo). \nConferencias de la XIX Semana Científica Telesforo Bravo\, «Islas. Espléndidos laboratorios naturales». En colaboración con la Fundación Telesforo Bravo-Juan Coello.
URL:https://iehcan.com/evento/presentacion-de-la-xix-semana-cientifica-telesforo-bravo/
LOCATION:IEHCAN\, Calle Quintana18\, Puerto de la Cruz\, Santa Cruz de Tenerife\, 38400\, España
CATEGORIES:Ciencia
ATTACH;FMTTYPE=image/jpeg:https://iehcan.com/wp-content/uploads/2023/11/Programa-Semana-Cientifica-TB2023.jpg
END:VEVENT
BEGIN:VEVENT
DTSTART;TZID=Atlantic/Canary:20231114T190000
DTEND;TZID=Atlantic/Canary:20231114T203000
DTSTAMP:20260422T183933
CREATED:20231102T105603Z
LAST-MODIFIED:20231102T113445Z
UID:11072-1699988400-1699993800@iehcan.com
SUMMARY:Cine etnográfico canario: «El Aula etnográfica Manuel de Falla»
DESCRIPTION:En el marco del ciclo de cine canario\, sesión dedicada al cine etnográfico canario\, en torno al hábitat de nuestros mayores en la zonas altas de La Orotava\, con proyección de la película «El Aula etnográfica Manuel de Falla»\, del Colectivo Cata y la Mirada Inquieta.
URL:https://iehcan.com/evento/vine-etnografico-canario-el-aula-etnografica-manuel-de-falla/
LOCATION:Santa Cruz de Tenerife
CATEGORIES:Cine
END:VEVENT
BEGIN:VEVENT
DTSTART;TZID=Atlantic/Canary:20231113T190000
DTEND;TZID=Atlantic/Canary:20231113T200000
DTSTAMP:20260422T183933
CREATED:20231102T105448Z
LAST-MODIFIED:20231102T105448Z
UID:11070-1699902000-1699905600@iehcan.com
SUMMARY:Mesa redonda: «María Belén Morales: laboratorio itinerante de formas»
DESCRIPTION:Mesa redonda en el marco de la exposición «María Belén Morales: laboratorio itinerante de formas»\, sobre la problemática del legado de los artistas desde una doble perspectiva: la memoria audiovisual (recuperación de testimonios audiovisuales a través de telecinado\, digitalización de fotografías y archivo de documentación de medios de comunicación\, redes sociales\, filmotecas\, Internet Archive…)\, así como desde la preocupación por el destino de las colecciones de los creadores (obras\, documentación de archivos\, publicaciones…).
URL:https://iehcan.com/evento/mesa-redonda-maria-belen-morales-laboratorio-itinerante-de-formas/
LOCATION:Santa Cruz de Tenerife
CATEGORIES:Artes Plásticas
ATTACH;FMTTYPE=image/jpeg:https://iehcan.com/wp-content/uploads/2023/11/Maria-Belen-Morales-Exposicion.jpg
END:VEVENT
BEGIN:VEVENT
DTSTART;TZID=Atlantic/Canary:20231110T193000
DTEND;TZID=Atlantic/Canary:20231110T203000
DTSTAMP:20260422T183933
CREATED:20231102T104107Z
LAST-MODIFIED:20231102T104107Z
UID:11068-1699644600-1699648200@iehcan.com
SUMMARY:Presentación del libro Piratería inglesa en las Islas Canarias
DESCRIPTION:Presentación del libro\nPiratería inglesa en las Islas Canarias\nde Nicolás González Lemus\,\npor Fernando Viale Acosta.
URL:https://iehcan.com/evento/presentacion-del-libro-pirateria-inglesa-en-las-islas-canarias/
LOCATION:Santa Cruz de Tenerife
CATEGORIES:Historia
ATTACH;FMTTYPE=image/jpeg:https://iehcan.com/wp-content/uploads/2023/11/Libro-Nicolas-Lemus.jpg
END:VEVENT
BEGIN:VEVENT
DTSTART;TZID=Atlantic/Canary:20231109T190000
DTEND;TZID=Atlantic/Canary:20231109T200000
DTSTAMP:20260422T183933
CREATED:20231102T110923Z
LAST-MODIFIED:20231102T111745Z
UID:11085-1699556400-1699560000@iehcan.com
SUMMARY:Conferencia:  «Memorias de Blas Cabrera contadas por sus descendientes: Luis Blas y Marta Cabrera»
DESCRIPTION:Conferencia:\n«Memorias de Blas Cabrera contadas por sus descendientes: Luis Blas y Marta Cabrera»\npor Luis Blas y Marta Cabrera. \nConferencias de VII Jornadas Protagonistas de la Ciencia y Tecnología Canarias\, dedicadas a Blas Cabrera. En colaboración con el Instituto de Estudios Canarios (La Laguna) y la Fundación Telesforo Bravo-Juan Coello.
URL:https://iehcan.com/evento/conferencia-memorias-de-blas-cabrera-contadas-por-sus-descendientes-luis-blas-y-marta-cabrera/
LOCATION:IECAN\, Casa de Ossuna. C/ Juan de Vera\, 4\, La Laguna\, Santa Cruz de Tenerifea\, 38201\, España
CATEGORIES:Ciencia
ATTACH;FMTTYPE=image/jpeg:https://iehcan.com/wp-content/uploads/2023/11/VIII-Protagonistas-de-la-Ciencia-y-la-Tecnologia-canarias_noviembre-2023.jpg
END:VEVENT
BEGIN:VEVENT
DTSTART;TZID=Atlantic/Canary:20231108T190000
DTEND;TZID=Atlantic/Canary:20231108T200000
DTSTAMP:20260422T183933
CREATED:20231102T110730Z
LAST-MODIFIED:20231102T111811Z
UID:11082-1699470000-1699473600@iehcan.com
SUMMARY:Conferencia: «Blas Cabrera y las “tierras raras”: uno de los fiadres de la física cuántica»
DESCRIPTION:Conferencia:\n«Blas Cabrera y las “tierras raras”: uno de los fiadres de la física cuántica»\npor Jorge Méndez Ramos\, profesor titular de Física de la ULL. \nConferencias de VII Jornadas Protagonistas de la Ciencia y Tecnología Canarias\, dedicadas a Blas Cabrera. En colaboración con el Instituto de Estudios Canarios (La Laguna) y la Fundación Telesforo Bravo-Juan Coello.
URL:https://iehcan.com/evento/conferencia-blas-cabrera-y-las-tierras-raras-uno-de-los-fiadres-de-la-fisica-cuantica/
LOCATION:IECAN\, Casa de Ossuna. C/ Juan de Vera\, 4\, La Laguna\, Santa Cruz de Tenerifea\, 38201\, España
CATEGORIES:Ciencia
ATTACH;FMTTYPE=image/jpeg:https://iehcan.com/wp-content/uploads/2023/11/VIII-Protagonistas-de-la-Ciencia-y-la-Tecnologia-canarias_noviembre-2023.jpg
END:VEVENT
BEGIN:VEVENT
DTSTART;TZID=Atlantic/Canary:20231108T190000
DTEND;TZID=Atlantic/Canary:20231108T200000
DTSTAMP:20260422T183933
CREATED:20231102T103907Z
LAST-MODIFIED:20231102T111821Z
UID:11058-1699470000-1699473600@iehcan.com
SUMMARY:Presentación Catálogo de la exposición «María Belén Morales»
DESCRIPTION:Presentación Catálogo de la exposición «María Belén Morales: laboratorio itinerante de formas. Tenerife- Córdoba 1990-2000».
URL:https://iehcan.com/evento/presentacion-catalogo-de-la-exposicion-maria-belen-morales/
LOCATION:IEHCAN\, Calle Quintana18\, Puerto de la Cruz\, Santa Cruz de Tenerife\, 38400\, España
CATEGORIES:Artes Plásticas
ATTACH;FMTTYPE=image/jpeg:https://iehcan.com/wp-content/uploads/2023/11/Maria-Belen-Morales-Presentacion.jpg
END:VEVENT
BEGIN:VEVENT
DTSTART;TZID=Atlantic/Canary:20231107T190000
DTEND;TZID=Atlantic/Canary:20231107T200000
DTSTAMP:20260422T183933
CREATED:20231102T110336Z
LAST-MODIFIED:20231102T111833Z
UID:11080-1699383600-1699387200@iehcan.com
SUMMARY:Conferencia: «La realidad cuántica»
DESCRIPTION:Conferencia:\n«La realidad cuántica»\npor Rafael Francisco Sala Mayato\, profesor titular de Física Cuántica de la ULL.\n\nConferencias de VII Jornadas Protagonistas de la Ciencia y Tecnología Canarias\, dedicadas a Blas Cabrera. En colaboración con el Instituto de Estudios Canarios (La Laguna) y la Fundación Telesforo Bravo-Juan Coello.
URL:https://iehcan.com/evento/conferencia-la-realidad-cuantica/
LOCATION:IEHCAN\, Calle Quintana18\, Puerto de la Cruz\, Santa Cruz de Tenerife\, 38400\, España
CATEGORIES:Ciencia
ATTACH;FMTTYPE=image/jpeg:https://iehcan.com/wp-content/uploads/2023/11/VIII-Protagonistas-de-la-Ciencia-y-la-Tecnologia-canarias_noviembre-2023.jpg
END:VEVENT
BEGIN:VEVENT
DTSTART;TZID=Atlantic/Canary:20231106T190000
DTEND;TZID=Atlantic/Canary:20231106T200000
DTSTAMP:20260422T183933
CREATED:20231102T110202Z
LAST-MODIFIED:20231102T111844Z
UID:11078-1699297200-1699300800@iehcan.com
SUMMARY:Conferencia: «Blas Cabrera\, viaje a través de una vida magnética»
DESCRIPTION:Conferencia:\n«Blas Cabrera\, viaje a través de una vida magnética»\,\npor Verónica Pavés Lorenzo\, periodista y escritora. \nConferencias de VII Jornadas Protagonistas de la Ciencia y Tecnología Canarias\, dedicadas a Blas Cabrera. En colaboración con el Instituto de Estudios Canarios (La Laguna) y la Fundación Telesforo Bravo-Juan Coello.
URL:https://iehcan.com/evento/conferencia-blas-cabrera-viaje-a-traves-de-una-vida-magnetica/
LOCATION:IEHCAN\, Calle Quintana18\, Puerto de la Cruz\, Santa Cruz de Tenerife\, 38400\, España
CATEGORIES:Ciencia
ATTACH;FMTTYPE=image/jpeg:https://iehcan.com/wp-content/uploads/2023/11/VIII-Protagonistas-de-la-Ciencia-y-la-Tecnologia-canarias_noviembre-2023.jpg
END:VEVENT
BEGIN:VEVENT
DTSTART;TZID=Atlantic/Canary:20231031T190000
DTEND;TZID=Atlantic/Canary:20231031T200000
DTSTAMP:20260422T183933
CREATED:20230929T202555Z
LAST-MODIFIED:20231102T113847Z
UID:10958-1698778800-1698782400@iehcan.com
SUMMARY:Cinefórum Fundación Cajacanarias
DESCRIPTION:Martes 31\, a las 19.00 horas: En el marco del Cinefórum Fundación Cajacanarias y del ciclo «El IEHC proyecta el último martes de cada mes»\, exhibición de la película  Close\, de Lukas Dhont. \nPosterior debate sobre la presión\, el bullying\, el sentirse un bicho raro.
URL:https://iehcan.com/evento/cineforum-fundacion-cajacanarias/
LOCATION:IEHCAN\, Calle Quintana18\, Puerto de la Cruz\, Santa Cruz de Tenerife\, 38400\, España
CATEGORIES:Cine
ATTACH;FMTTYPE=image/jpeg:https://iehcan.com/wp-content/uploads/2023/09/Close-794925165-large.jpg
END:VEVENT
BEGIN:VEVENT
DTSTART;TZID=Atlantic/Canary:20231026T190000
DTEND;TZID=Atlantic/Canary:20231026T210000
DTSTAMP:20260422T183933
CREATED:20230929T202503Z
LAST-MODIFIED:20231003T165537Z
UID:10956-1698346800-1698354000@iehcan.com
SUMMARY:Ciclo de Cine Canario
DESCRIPTION:Jueves 26\, a las 19.00 horas: En el marco del ciclo de Cine Canario «Cortos Rueda en la Palma». \nProyección de una selección de cortos rodados en la isla de la Palma en el Festivalito de 2023.
URL:https://iehcan.com/evento/ciclo-de-cine-canario/
LOCATION:IEHCAN\, Calle Quintana18\, Puerto de la Cruz\, Santa Cruz de Tenerife\, 38400\, España
CATEGORIES:Cine
ATTACH;FMTTYPE=image/png:https://iehcan.com/wp-content/uploads/2023/09/descarga.png
END:VEVENT
BEGIN:VEVENT
DTSTART;TZID=Atlantic/Canary:20231024T190000
DTEND;TZID=Atlantic/Canary:20231024T200000
DTSTAMP:20260422T183933
CREATED:20230929T202338Z
LAST-MODIFIED:20231003T165517Z
UID:10954-1698174000-1698177600@iehcan.com
SUMMARY:Recital poético
DESCRIPTION:Martes 24\, a las 19.00 horas: \nRecital poético «Canto a Hispanoamérica»\, por componentes de la agrupación Poetas Uni-verso. Con el acompañamiento de grupo musical.
URL:https://iehcan.com/evento/recital-poetico/
LOCATION:IEHCAN\, Calle Quintana18\, Puerto de la Cruz\, Santa Cruz de Tenerife\, 38400\, España
CATEGORIES:Literatura
ATTACH;FMTTYPE=image/jpeg:https://iehcan.com/wp-content/uploads/2023/09/universo.jpg
END:VEVENT
BEGIN:VEVENT
DTSTART;TZID=Atlantic/Canary:20231011T203000
DTEND;TZID=Atlantic/Canary:20231011T213000
DTSTAMP:20260422T183933
CREATED:20230929T202241Z
LAST-MODIFIED:20231003T165356Z
UID:10952-1697056200-1697059800@iehcan.com
SUMMARY:Conferencia inaugural del Curso 2023/2024 del IEHC
DESCRIPTION:Miércoles 11\, a las 20.30 horas\, en el Salón de Plenos del Excmo. Ayuntamiento de Puerto de la Cruz:\nConferencia Inaugural del Curso 2023/2024 del IEHC: «Un viaje de ida y vuelta: América y Canarias»\, a cargo de  Elsa López Rodríguez\, catedrática y doctora en Filosofía\, Premio Canarias de Literatura 2022. \nA continuación cierre musical con la cantante Fabiola Socas.
URL:https://iehcan.com/evento/conferencia-inaugural-del-curso-2023-2024-del-iehc/
LOCATION:Ayuntamiento Puerto de la Cruz\, Plaza de Europa\, Puerto de la Cruz\, Santa Cruz de Tenerife\, 38400\, España
CATEGORIES:Cursos
ATTACH;FMTTYPE=image/jpeg:https://iehcan.com/wp-content/uploads/2023/09/Imagen-Apertura-Curso-2023-2024-11de-octubre-2023.jpg
END:VEVENT
BEGIN:VEVENT
DTSTART;TZID=Atlantic/Canary:20231011T190000
DTEND;TZID=Atlantic/Canary:20231011T201500
DTSTAMP:20260422T183933
CREATED:20230929T202134Z
LAST-MODIFIED:20231102T111907Z
UID:10950-1697050800-1697055300@iehcan.com
SUMMARY:Inauguración de la exposición «María Belén Morales
DESCRIPTION:Miércoles 11\,  a las 19.00 horas\, en el MACEW (Museo de Arte Contemporáneo Eduardo Westerdahl):Inauguración de la exposición «María Belén Morales: Laboratorio itinerante de formas. Tenerife – Córdoba 1990/2000)». \nLa exposición se exhibirá en el MACEW y en la sala de exposiciones del IEHC\, desde el 11 de octubre hasta el 15 de noviembre\, en horario de lunes a viernes de 10.00 a 14.00 horas\, y de 17.00 a 20.00 horas. Sábado: de 10.00 a 14.oo horas (salvo festivos).
URL:https://iehcan.com/evento/inauguracion-de-la-exposicion-maria-belen-morales/
LOCATION:MACEW\, Calle Las Lonjas\, Puerto de la Cruz\, Santa Cruz de Tenerife\, 38400\, España
CATEGORIES:Artes Plásticas
ATTACH;FMTTYPE=image/jpeg:https://iehcan.com/wp-content/uploads/2023/09/Cartel-expo-Maria-Belen-Morales-scaled.jpg
END:VEVENT
END:VCALENDAR